BEGIN:VCALENDAR
VERSION:2.0
PRODID:-//PSGRKCW - ECPv6.8.1//NONSGML v1.0//EN
CALSCALE:GREGORIAN
METHOD:PUBLISH
X-WR-CALNAME:PSGRKCW
X-ORIGINAL-URL:https://www.psgrkcw.ac.in
X-WR-CALDESC:Events for PSGRKCW
REFRESH-INTERVAL;VALUE=DURATION:PT1H
X-Robots-Tag:noindex
X-PUBLISHED-TTL:PT1H
BEGIN:VTIMEZONE
TZID:Asia/Kolkata
BEGIN:STANDARD
TZOFFSETFROM:+0530
TZOFFSETTO:+0530
TZNAME:IST
DTSTART:20240101T000000
END:STANDARD
END:VTIMEZONE
BEGIN:VEVENT
DTSTART;VALUE=DATE:20240911
DTEND;VALUE=DATE:20240912
DTSTAMP:20260421T025838
CREATED:20240910T061849Z
LAST-MODIFIED:20240910T071508Z
UID:7179-1726012800-1726099199@www.psgrkcw.ac.in
SUMMARY:         தமிழ் மன்றம் -போட்டி
DESCRIPTION:
URL:https://www.psgrkcw.ac.in/event/%e0%ae%a4%e0%ae%ae%e0%ae%bf%e0%ae%b4%e0%af%8d-%e0%ae%ae%e0%ae%a9%e0%af%8d%e0%ae%b1%e0%ae%ae%e0%af%8d-%e0%ae%aa%e0%af%8b%e0%ae%9f%e0%af%8d%e0%ae%9f/
END:VEVENT
END:VCALENDAR