BEGIN:VCALENDAR
VERSION:2.0
PRODID:-//PSGRKCW - ECPv6.8.1//NONSGML v1.0//EN
CALSCALE:GREGORIAN
METHOD:PUBLISH
X-ORIGINAL-URL:https://www.psgrkcw.ac.in
X-WR-CALDESC:Events for PSGRKCW
REFRESH-INTERVAL;VALUE=DURATION:PT1H
X-Robots-Tag:noindex
X-PUBLISHED-TTL:PT1H
BEGIN:VTIMEZONE
TZID:Asia/Kolkata
BEGIN:STANDARD
TZOFFSETFROM:+0530
TZOFFSETTO:+0530
TZNAME:IST
DTSTART:20240101T000000
END:STANDARD
END:VTIMEZONE
BEGIN:VEVENT
DTSTART;TZID=Asia/Kolkata:20240903T080000
DTEND;TZID=Asia/Kolkata:20240903T170000
DTSTAMP:20260420T145851
CREATED:20240903T063348Z
LAST-MODIFIED:20240903T063554Z
UID:7090-1725350400-1725382800@www.psgrkcw.ac.in
SUMMARY:          Birth Anniversary
DESCRIPTION:
URL:https://www.psgrkcw.ac.in/event/birth-anniversary/
END:VEVENT
END:VCALENDAR