BEGIN:VCALENDAR
VERSION:2.0
PRODID:-//PSGRKCW - ECPv6.8.1//NONSGML v1.0//EN
CALSCALE:GREGORIAN
METHOD:PUBLISH
X-WR-CALNAME:PSGRKCW
X-ORIGINAL-URL:https://www.psgrkcw.ac.in
X-WR-CALDESC:Events for PSGRKCW
REFRESH-INTERVAL;VALUE=DURATION:PT1H
X-Robots-Tag:noindex
X-PUBLISHED-TTL:PT1H
BEGIN:VTIMEZONE
TZID:Asia/Kolkata
BEGIN:STANDARD
TZOFFSETFROM:+0530
TZOFFSETTO:+0530
TZNAME:IST
DTSTART:20240101T000000
END:STANDARD
END:VTIMEZONE
BEGIN:VEVENT
DTSTART;TZID=Asia/Kolkata:20240812T080000
DTEND;TZID=Asia/Kolkata:20240813T170000
DTSTAMP:20260420T120440
CREATED:20240812T040906Z
LAST-MODIFIED:20240812T040906Z
UID:6841-1723449600-1723568400@www.psgrkcw.ac.in
SUMMARY:CSIR NET SET Workshop
DESCRIPTION:
URL:https://www.psgrkcw.ac.in/event/csir-net-set-workshop/
END:VEVENT
BEGIN:VEVENT
DTSTART;VALUE=DATE:20240813
DTEND;VALUE=DATE:20240814
DTSTAMP:20260420T120440
CREATED:20240812T110350Z
LAST-MODIFIED:20240813T052756Z
UID:6854-1723507200-1723593599@www.psgrkcw.ac.in
SUMMARY:PSGRKCW is ranked #7 among colleges in NIRF 2024.
DESCRIPTION:
URL:https://www.psgrkcw.ac.in/event/nirf-2024/
END:VEVENT
BEGIN:VEVENT
DTSTART;TZID=Asia/Kolkata:20240813T090000
DTEND;TZID=Asia/Kolkata:20240813T110000
DTSTAMP:20260420T120440
CREATED:20240812T045845Z
LAST-MODIFIED:20240812T045845Z
UID:6844-1723539600-1723546800@www.psgrkcw.ac.in
SUMMARY:தமிழ்அழைப்பிதழ்
DESCRIPTION:
URL:https://www.psgrkcw.ac.in/event/%e0%ae%a4%e0%ae%ae%e0%ae%bf%e0%ae%b4%e0%af%8d%e0%ae%85%e0%ae%b4%e0%af%88%e0%ae%aa%e0%af%8d%e0%ae%aa%e0%ae%bf%e0%ae%a4%e0%ae%b4%e0%af%8d/
END:VEVENT
END:VCALENDAR