BEGIN:VCALENDAR
VERSION:2.0
PRODID:-//PSGRKCW - ECPv6.8.1//NONSGML v1.0//EN
CALSCALE:GREGORIAN
METHOD:PUBLISH
X-ORIGINAL-URL:https://www.psgrkcw.ac.in
X-WR-CALDESC:Events for PSGRKCW
REFRESH-INTERVAL;VALUE=DURATION:PT1H
X-Robots-Tag:noindex
X-PUBLISHED-TTL:PT1H
BEGIN:VTIMEZONE
TZID:Asia/Kolkata
BEGIN:STANDARD
TZOFFSETFROM:+0530
TZOFFSETTO:+0530
TZNAME:IST
DTSTART:20240101T000000
END:STANDARD
END:VTIMEZONE
BEGIN:VEVENT
DTSTART;TZID=Asia/Kolkata:20240810T100000
DTEND;TZID=Asia/Kolkata:20240810T130000
DTSTAMP:20260420T103925
CREATED:20240807T043843Z
LAST-MODIFIED:20240807T044259Z
UID:6785-1723284000-1723294800@www.psgrkcw.ac.in
SUMMARY:Roadshow on Global Bio India 2024
DESCRIPTION:Registration Link: “https://bit.ly/Roadshow_GBI_2024”
URL:https://www.psgrkcw.ac.in/event/roadshow-on-global-bio-india-2024/
END:VEVENT
END:VCALENDAR