BEGIN:VCALENDAR
VERSION:2.0
PRODID:-//PSGRKCW - ECPv6.8.1//NONSGML v1.0//EN
CALSCALE:GREGORIAN
METHOD:PUBLISH
X-ORIGINAL-URL:https://www.psgrkcw.ac.in
X-WR-CALDESC:Events for PSGRKCW
REFRESH-INTERVAL;VALUE=DURATION:PT1H
X-Robots-Tag:noindex
X-PUBLISHED-TTL:PT1H
BEGIN:VTIMEZONE
TZID:Asia/Kolkata
BEGIN:STANDARD
TZOFFSETFROM:+0530
TZOFFSETTO:+0530
TZNAME:IST
DTSTART:20240101T000000
END:STANDARD
END:VTIMEZONE
BEGIN:VEVENT
DTSTART;TZID=Asia/Kolkata:20240730T080000
DTEND;TZID=Asia/Kolkata:20240730T170000
DTSTAMP:20260420T085953
CREATED:20240730T052338Z
LAST-MODIFIED:20240730T052338Z
UID:6673-1722326400-1722358800@www.psgrkcw.ac.in
SUMMARY:Sports Achievement -Basketball
DESCRIPTION:
URL:https://www.psgrkcw.ac.in/event/sports-achievement-basketball/
END:VEVENT
BEGIN:VEVENT
DTSTART;TZID=Asia/Kolkata:20240730T080000
DTEND;TZID=Asia/Kolkata:20240730T170000
DTSTAMP:20260420T085953
CREATED:20240730T052502Z
LAST-MODIFIED:20240730T052502Z
UID:6676-1722326400-1722358800@www.psgrkcw.ac.in
SUMMARY:STATE ROLLBALL CHAMPIONSHIPS
DESCRIPTION:
URL:https://www.psgrkcw.ac.in/event/state-rollball-championships/
END:VEVENT
END:VCALENDAR