BEGIN:VCALENDAR
VERSION:2.0
PRODID:-//PSGRKCW - ECPv6.8.1//NONSGML v1.0//EN
CALSCALE:GREGORIAN
METHOD:PUBLISH
X-WR-CALNAME:PSGRKCW
X-ORIGINAL-URL:https://www.psgrkcw.ac.in
X-WR-CALDESC:Events for PSGRKCW
REFRESH-INTERVAL;VALUE=DURATION:PT1H
X-Robots-Tag:noindex
X-PUBLISHED-TTL:PT1H
BEGIN:VTIMEZONE
TZID:Asia/Kolkata
BEGIN:STANDARD
TZOFFSETFROM:+0530
TZOFFSETTO:+0530
TZNAME:IST
DTSTART:20240101T000000
END:STANDARD
END:VTIMEZONE
BEGIN:VEVENT
DTSTART;TZID=Asia/Kolkata:20240729T000000
DTEND;TZID=Asia/Kolkata:20240729T170000
DTSTAMP:20260420T085902
CREATED:20240726T111107Z
LAST-MODIFIED:20240729T060255Z
UID:6656-1722211200-1722272400@www.psgrkcw.ac.in
SUMMARY:Alumni Guest Lecture
DESCRIPTION:
URL:https://www.psgrkcw.ac.in/event/alumni-guest-lecture/
END:VEVENT
END:VCALENDAR