BEGIN:VCALENDAR
VERSION:2.0
PRODID:-//PSGRKCW - ECPv6.8.1//NONSGML v1.0//EN
CALSCALE:GREGORIAN
METHOD:PUBLISH
X-ORIGINAL-URL:https://www.psgrkcw.ac.in
X-WR-CALDESC:Events for PSGRKCW
REFRESH-INTERVAL;VALUE=DURATION:PT1H
X-Robots-Tag:noindex
X-PUBLISHED-TTL:PT1H
BEGIN:VTIMEZONE
TZID:Asia/Kolkata
BEGIN:STANDARD
TZOFFSETFROM:+0530
TZOFFSETTO:+0530
TZNAME:IST
DTSTART:20240101T000000
END:STANDARD
END:VTIMEZONE
BEGIN:VEVENT
DTSTART;TZID=Asia/Kolkata:20240722T150000
DTEND;TZID=Asia/Kolkata:20240722T150000
DTSTAMP:20260420T085951
CREATED:20240722T040358Z
LAST-MODIFIED:20240722T040513Z
UID:6570-1721660400-1721660400@www.psgrkcw.ac.in
SUMMARY:Inauguration of the Students Forum of KCW
DESCRIPTION:
URL:https://www.psgrkcw.ac.in/event/inauguration-of-the-students-forum-of-kcw/
END:VEVENT
END:VCALENDAR