BEGIN:VCALENDAR
VERSION:2.0
PRODID:-//PSGRKCW - ECPv6.8.1//NONSGML v1.0//EN
CALSCALE:GREGORIAN
METHOD:PUBLISH
X-WR-CALNAME:PSGRKCW
X-ORIGINAL-URL:https://www.psgrkcw.ac.in
X-WR-CALDESC:Events for PSGRKCW
REFRESH-INTERVAL;VALUE=DURATION:PT1H
X-Robots-Tag:noindex
X-PUBLISHED-TTL:PT1H
BEGIN:VTIMEZONE
TZID:Asia/Kolkata
BEGIN:STANDARD
TZOFFSETFROM:+0530
TZOFFSETTO:+0530
TZNAME:IST
DTSTART:20240101T000000
END:STANDARD
END:VTIMEZONE
BEGIN:VEVENT
DTSTART;VALUE=DATE:20240716
DTEND;VALUE=DATE:20240718
DTSTAMP:20260420T085827
CREATED:20240715T110250Z
LAST-MODIFIED:20240716T050031Z
UID:6456-1721088000-1721260799@www.psgrkcw.ac.in
SUMMARY:Sports - Nobel World Record
DESCRIPTION:Neenashree. B from II BCOM(BA)created a *Nobel World Record* by performing *10 different styles of silambam rotation continuously for 5 hours.
URL:https://www.psgrkcw.ac.in/event/6456/
END:VEVENT
BEGIN:VEVENT
DTSTART;VALUE=DATE:20240717
DTEND;VALUE=DATE:20240718
DTSTAMP:20260420T085827
CREATED:20240716T043857Z
LAST-MODIFIED:20240716T045901Z
UID:6464-1721174400-1721260799@www.psgrkcw.ac.in
SUMMARY:International Chess Competition
DESCRIPTION:
URL:https://www.psgrkcw.ac.in/event/international-chess-competition/
END:VEVENT
BEGIN:VEVENT
DTSTART;VALUE=DATE:20240717
DTEND;VALUE=DATE:20240718
DTSTAMP:20260420T085827
CREATED:20240715T104633Z
LAST-MODIFIED:20240716T045947Z
UID:6447-1721174400-1721260799@www.psgrkcw.ac.in
SUMMARY:Sports Achievement
DESCRIPTION:Basketball Team has participated in 68th YMCA Basketball Tournament for S.Venkatakrishnan Trophy – 2024 at YMCA Ground and they secured Second Place.
URL:https://www.psgrkcw.ac.in/event/sports-achievement-2/
END:VEVENT
BEGIN:VEVENT
DTSTART;VALUE=DATE:20240717
DTEND;VALUE=DATE:20240718
DTSTAMP:20260420T085827
CREATED:20240716T112949Z
LAST-MODIFIED:20240716T112957Z
UID:6526-1721174400-1721260799@www.psgrkcw.ac.in
SUMMARY:Sports - Silambam Nobel World Record
DESCRIPTION:Ms.Visalini.C from III BA English Literature done Silambam Nobel World Record continuously for 5 hours The NWR is the Private Limited Company behind the Nobel World Records (NWR).She was awarded an *A3 certificate* and a *Gold Medal*
URL:https://www.psgrkcw.ac.in/event/sports-silambam-nobel-world-record/
END:VEVENT
END:VCALENDAR