BEGIN:VCALENDAR
VERSION:2.0
PRODID:-//PSGRKCW - ECPv6.8.1//NONSGML v1.0//EN
CALSCALE:GREGORIAN
METHOD:PUBLISH
X-ORIGINAL-URL:https://www.psgrkcw.ac.in
X-WR-CALDESC:Events for PSGRKCW
REFRESH-INTERVAL;VALUE=DURATION:PT1H
X-Robots-Tag:noindex
X-PUBLISHED-TTL:PT1H
BEGIN:VTIMEZONE
TZID:Asia/Kolkata
BEGIN:STANDARD
TZOFFSETFROM:+0530
TZOFFSETTO:+0530
TZNAME:IST
DTSTART:20240101T000000
END:STANDARD
END:VTIMEZONE
BEGIN:VEVENT
DTSTART;VALUE=DATE:20240715
DTEND;VALUE=DATE:20240716
DTSTAMP:20260420T085951
CREATED:20240715T074444Z
LAST-MODIFIED:20240715T075545Z
UID:6444-1721001600-1721087999@www.psgrkcw.ac.in
SUMMARY:Sports - Achievement
DESCRIPTION:Ms.L.Jyothsna of III B.Sc. (CS with AI)\, participated in Tamilnadu State level Childrens & Open Chess Tournament\, and secured Silver Medal in open Category. held at Tirupur on 14.07.2024. She has been honored with a Silver Medal\, Merit Certificate and Cash Prize for her Wonderful Achievement.
URL:https://www.psgrkcw.ac.in/event/sports-achievement/
END:VEVENT
BEGIN:VEVENT
DTSTART;VALUE=DATE:20240715
DTEND;VALUE=DATE:20240716
DTSTAMP:20260420T085951
CREATED:20240715T105459Z
LAST-MODIFIED:20240715T105510Z
UID:6453-1721001600-1721087999@www.psgrkcw.ac.in
SUMMARY:Association Inaguration
DESCRIPTION:
URL:https://www.psgrkcw.ac.in/event/association-inaguration/
END:VEVENT
BEGIN:VEVENT
DTSTART;TZID=Asia/Kolkata:20240715T080000
DTEND;TZID=Asia/Kolkata:20240715T170000
DTSTAMP:20260420T085951
CREATED:20240713T135046Z
LAST-MODIFIED:20240713T135332Z
UID:6436-1721030400-1721062800@www.psgrkcw.ac.in
SUMMARY:COMPOSITION CONCEPTS FOR STANDOUT VISUALS
DESCRIPTION:
URL:https://www.psgrkcw.ac.in/event/composition-concepts-for-standout-visuals/
END:VEVENT
END:VCALENDAR